BEGIN:VCALENDAR
VERSION:2.0
PRODID:-//MFN - ECPv6.15.20//NONSGML v1.0//EN
CALSCALE:GREGORIAN
METHOD:PUBLISH
X-ORIGINAL-URL:https://massfoundersnetwork.org
X-WR-CALDESC:Events for MFN
REFRESH-INTERVAL;VALUE=DURATION:PT1H
X-Robots-Tag:noindex
X-PUBLISHED-TTL:PT1H
BEGIN:VTIMEZONE
TZID:America/New_York
BEGIN:DAYLIGHT
TZOFFSETFROM:-0500
TZOFFSETTO:-0400
TZNAME:EDT
DTSTART:20240310T070000
END:DAYLIGHT
BEGIN:STANDARD
TZOFFSETFROM:-0400
TZOFFSETTO:-0500
TZNAME:EST
DTSTART:20241103T060000
END:STANDARD
BEGIN:DAYLIGHT
TZOFFSETFROM:-0500
TZOFFSETTO:-0400
TZNAME:EDT
DTSTART:20250309T070000
END:DAYLIGHT
BEGIN:STANDARD
TZOFFSETFROM:-0400
TZOFFSETTO:-0500
TZNAME:EST
DTSTART:20251102T060000
END:STANDARD
BEGIN:DAYLIGHT
TZOFFSETFROM:-0500
TZOFFSETTO:-0400
TZNAME:EDT
DTSTART:20260308T070000
END:DAYLIGHT
BEGIN:STANDARD
TZOFFSETFROM:-0400
TZOFFSETTO:-0500
TZNAME:EST
DTSTART:20261101T060000
END:STANDARD
END:VTIMEZONE
BEGIN:VEVENT
DTSTART;TZID=America/New_York:20250312T160000
DTEND;TZID=America/New_York:20250312T190000
DTSTAMP:20260419T122511
CREATED:20250221T201141Z
LAST-MODIFIED:20250221T201141Z
UID:10001786-1741795200-1741806000@massfoundersnetwork.org
SUMMARY:Brandeis University SparkTank
DESCRIPTION:At our annual demonstration event\, meet the startups stemming from the labs\, dorms and classrooms! Connect with the local innovation community\, network\, make friends\, and support your favorite team. Students\, alumni\, and non-Brandeis affiliated founders working in the region are welcome to attend.
URL:https://massfoundersnetwork.org/event/brandeis-university-sparktank/
LOCATION:Brandeis University\, 415 South Street\, Waltham\, MA\, 02453\, United States
CATEGORIES:In-Person,Networking Event,Pitch Event
ATTACH;FMTTYPE=image/png:https://massfoundersnetwork.org/wp-content/uploads/2025/02/Screenshot-2025-02-21-at-10.04.16 AM-e1740150579281.png
ORGANIZER;CN="Brandeis Innovation":MAILTO:menapace@brandeis.edu
GEO:42.3655391;-71.25914
X-APPLE-STRUCTURED-LOCATION;VALUE=URI;X-ADDRESS=Brandeis University 415 South Street Waltham MA 02453 United States;X-APPLE-RADIUS=500;X-TITLE=415 South Street:geo:-71.25914,42.3655391
END:VEVENT
END:VCALENDAR