BEGIN:VCALENDAR
VERSION:2.0
PRODID:-//MFN - ECPv6.15.20//NONSGML v1.0//EN
CALSCALE:GREGORIAN
METHOD:PUBLISH
X-WR-CALNAME:MFN
X-ORIGINAL-URL:https://massfoundersnetwork.org
X-WR-CALDESC:Events for MFN
REFRESH-INTERVAL;VALUE=DURATION:PT1H
X-Robots-Tag:noindex
X-PUBLISHED-TTL:PT1H
BEGIN:VTIMEZONE
TZID:America/New_York
BEGIN:DAYLIGHT
TZOFFSETFROM:-0500
TZOFFSETTO:-0400
TZNAME:EDT
DTSTART:20250309T070000
END:DAYLIGHT
BEGIN:STANDARD
TZOFFSETFROM:-0400
TZOFFSETTO:-0500
TZNAME:EST
DTSTART:20251102T060000
END:STANDARD
BEGIN:DAYLIGHT
TZOFFSETFROM:-0500
TZOFFSETTO:-0400
TZNAME:EDT
DTSTART:20260308T070000
END:DAYLIGHT
BEGIN:STANDARD
TZOFFSETFROM:-0400
TZOFFSETTO:-0500
TZNAME:EST
DTSTART:20261101T060000
END:STANDARD
BEGIN:DAYLIGHT
TZOFFSETFROM:-0500
TZOFFSETTO:-0400
TZNAME:EDT
DTSTART:20270314T070000
END:DAYLIGHT
BEGIN:STANDARD
TZOFFSETFROM:-0400
TZOFFSETTO:-0500
TZNAME:EST
DTSTART:20271107T060000
END:STANDARD
END:VTIMEZONE
BEGIN:VEVENT
DTSTART;TZID=America/New_York:20260427T173000
DTEND;TZID=America/New_York:20260427T193000
DTSTAMP:20260424T085155
CREATED:20260408T185609Z
LAST-MODIFIED:20260408T185609Z
UID:10002186-1777311000-1777318200@massfoundersnetwork.org
SUMMARY:Startup Boston Mentor Matching for Early-Stage Founders
DESCRIPTION:​Join Startup Boston for an exclusive mentorship event designed to connect early-stage founders with mentors. \n​This event features small\, intimate group discussions to encourage meaningful conversations and connections. Please register to see the exact location of this event. \n​Founders will: \n\n\n​Share knowledge with mentors and peers. \n\n\n​Ask questions\, seek advice\, and gain insights to propel their startup forward. \n\n\n​Build valuable connections with mentors and fellow founders. \n\n\n​Mentors will: \n\n\n​Guide founders through the early stages of their startup journey. \n\n\n​Stay connected to the Boston startup scene while engaging with aspiring entrepreneurs. \n\n\n​Build relationships with promising local startups.
URL:https://massfoundersnetwork.org/event/startup-boston-mentor-matching-for-early-stage-founders/
CATEGORIES:In-Person,Networking Event,Themed Event
ATTACH;FMTTYPE=image/png:https://massfoundersnetwork.org/wp-content/uploads/2026/04/Screenshot-2026-04-08-at-2.51.59-PM.png
ORGANIZER;CN="StartUp Boston":MAILTO:hello@startupbos.org
END:VEVENT
BEGIN:VEVENT
DTSTART;TZID=America/New_York:20260429T090000
DTEND;TZID=America/New_York:20260429T100000
DTSTAMP:20260424T085155
CREATED:20260401T150247Z
LAST-MODIFIED:20260401T150322Z
UID:10002172-1777453200-1777456800@massfoundersnetwork.org
SUMMARY:How to Become an Angel Investor
DESCRIPTION:Angel investors play a critical role in the startup ecosystem. They’re often the first believers in a founder’s vision – providing early capital\, mentorship\, and connections that help startups get off the ground. \nBut for many people interested in investing\, the process can feel unclear. Do you need to be an accredited investor? Should you invest on your own or join an angel group? What are the tax implications of startup investing? And how do you actually find and evaluate startup opportunities? \nIn this practical webinar\, we’ll walk through the fundamentals of angel investing and what it takes to get started. Whether you’re a founder who has had a successful exit\, a startup operator looking to invest in the ecosystem\, or simply someone curious about early-stage investing\, this session will help demystify the angel investing landscape and outline practical next steps for getting involved.
URL:https://massfoundersnetwork.org/event/how-to-become-an-angel-investor/
CATEGORIES:Online,Panel Discussion,Themed Event
ORGANIZER;CN="StartUp Boston":MAILTO:hello@startupbos.org
END:VEVENT
BEGIN:VEVENT
DTSTART;TZID=America/New_York:20260430T090000
DTEND;TZID=America/New_York:20260430T120000
DTSTAMP:20260424T085155
CREATED:20260313T181741Z
LAST-MODIFIED:20260313T181741Z
UID:10002146-1777539600-1777550400@massfoundersnetwork.org
SUMMARY:Quarterly Ecosystem Leaders Roundtable
DESCRIPTION:​This quarterly\, invite-only working session is designed for the people actively building\, funding\, connecting\, and supporting startups across Greater Boston. Accepted participants will receive location details upon registration. \n​This roundtable is designed for: \n\n\n​Accelerator & incubator leaders \n\n\n​University entrepreneurship and innovation program leaders \n\n\n​Networking group organizers \n\n\n​City & state innovation representatives
URL:https://massfoundersnetwork.org/event/quarterly-ecosystem-leaders-roundtable-2/
CATEGORIES:In-Person,Networking Event,Themed Event
ATTACH;FMTTYPE=image/png:https://massfoundersnetwork.org/wp-content/uploads/2026/03/Screenshot-2026-03-13-at-2.15.10-PM.png
ORGANIZER;CN="StartUp Boston":MAILTO:hello@startupbos.org
END:VEVENT
BEGIN:VEVENT
DTSTART;TZID=America/New_York:20260504T173000
DTEND;TZID=America/New_York:20260504T193000
DTSTAMP:20260424T085155
CREATED:20260422T143256Z
LAST-MODIFIED:20260422T143256Z
UID:10002206-1777915800-1777923000@massfoundersnetwork.org
SUMMARY:Startup Boston Cofounder Matching
DESCRIPTION:​Looking to connect with like-minded entrepreneurs who could become your next business partner? Join us for structured networking\, where you will create new relationships and get one step closer to finding that critical business partner you need on your team. Location details shared following registration.
URL:https://massfoundersnetwork.org/event/startup-boston-cofounder-matching-3/
CATEGORIES:In-Person,Networking Event,Themed Event
ATTACH;FMTTYPE=image/png:https://massfoundersnetwork.org/wp-content/uploads/2026/04/Screenshot-2026-04-22-at-10.30.58-AM.png
ORGANIZER;CN="StartUp Boston":MAILTO:hello@startupbos.org
END:VEVENT
BEGIN:VEVENT
DTSTART;TZID=America/New_York:20260506T093000
DTEND;TZID=America/New_York:20260506T110000
DTSTAMP:20260424T085155
CREATED:20260408T193201Z
LAST-MODIFIED:20260408T193201Z
UID:10002187-1778059800-1778065200@massfoundersnetwork.org
SUMMARY:She Builds Boston: Brewing Bold Ideas
DESCRIPTION:​Mornings hit different when you’re building something big. \n​Join us for Startup Boston’s monthly coffee mixer\, designed for female investors and female founders (of product-driven startups) who want to start the day with conversations that actually energize you.
URL:https://massfoundersnetwork.org/event/she-builds-boston-brewing-bold-ideas-2/
CATEGORIES:In-Person,Networking Event
ATTACH;FMTTYPE=image/png:https://massfoundersnetwork.org/wp-content/uploads/2026/04/Screenshot-2026-04-08-at-3.30.52-PM.png
ORGANIZER;CN="StartUp Boston":MAILTO:hello@startupbos.org
END:VEVENT
BEGIN:VEVENT
DTSTART;TZID=America/New_York:20260521T093000
DTEND;TZID=America/New_York:20260521T113000
DTSTAMP:20260424T085155
CREATED:20260413T194639Z
LAST-MODIFIED:20260413T194639Z
UID:10002195-1779355800-1779363000@massfoundersnetwork.org
SUMMARY:Startup Boston Dealflow Mixer- CIC Social Impact Cohort Edition
DESCRIPTION:Startup Boston is thrilled to welcome investors to meet CIC’s Social Impact Cohort – a powerhouse lineup of startups led by historically underserved entrepreneurs from Massachusetts. This is a targeted networking and matching event designed to connect complementary funders and founders\, fostering meaningful relationships and potential investment opportunities. ​Don’t miss this chance to discover the next wave of high-impact startups and make meaningful connections!
URL:https://massfoundersnetwork.org/event/startup-boston-dealflow-mixer-cic-social-impact-cohort-edition/
LOCATION:Cambridge Innovation Center\, 1 Broadway Street\, FL 5\, Cambridge\, MA\, 02142\, United States
CATEGORIES:In-Person,Networking Event,Themed Event
ATTACH;FMTTYPE=image/png:https://massfoundersnetwork.org/wp-content/uploads/2026/04/Screenshot-2026-04-13-at-3.44.39-PM.png
ORGANIZER;CN="StartUp Boston":MAILTO:hello@startupbos.org
GEO:42.3730202;-71.1116638
X-APPLE-STRUCTURED-LOCATION;VALUE=URI;X-ADDRESS=Cambridge Innovation Center 1 Broadway Street FL 5 Cambridge MA 02142 United States;X-APPLE-RADIUS=500;X-TITLE=1 Broadway Street\, FL 5:geo:-71.1116638,42.3730202
END:VEVENT
BEGIN:VEVENT
DTSTART;TZID=America/New_York:20260526T173000
DTEND;TZID=America/New_York:20260526T200000
DTSTAMP:20260424T085155
CREATED:20260415T153027Z
LAST-MODIFIED:20260415T153027Z
UID:10002198-1779816600-1779825600@massfoundersnetwork.org
SUMMARY:Startup Boston Test Early-Stage Startups IRL
DESCRIPTION:Most founders don’t fail because they can’t build. They fail because they build…in a vacuum. This event fixes that. We’re bringing together some of Boston’s earliest-stage startups for a night of real-time product testing\, feedback\, and beta user growth. \nYou’ll walk around\, try products\, talk directly to founders\, and (if you like it) become an early user. Think part startup showcase\, part user research lab. Location details shared following registration.
URL:https://massfoundersnetwork.org/event/startup-boston-test-early-stage-startups-irl/
CATEGORIES:In-Person,Networking Event,Themed Event
ATTACH;FMTTYPE=image/png:https://massfoundersnetwork.org/wp-content/uploads/2026/04/Screenshot-2026-04-15-at-11.29.17-AM.png
ORGANIZER;CN="StartUp Boston":MAILTO:hello@startupbos.org
END:VEVENT
END:VCALENDAR