BEGIN:VCALENDAR
VERSION:2.0
PRODID:-//MFN - ECPv6.15.20//NONSGML v1.0//EN
CALSCALE:GREGORIAN
METHOD:PUBLISH
X-WR-CALNAME:MFN
X-ORIGINAL-URL:https://massfoundersnetwork.org
X-WR-CALDESC:Events for MFN
REFRESH-INTERVAL;VALUE=DURATION:PT1H
X-Robots-Tag:noindex
X-PUBLISHED-TTL:PT1H
BEGIN:VTIMEZONE
TZID:America/New_York
BEGIN:DAYLIGHT
TZOFFSETFROM:-0500
TZOFFSETTO:-0400
TZNAME:EDT
DTSTART:20250309T070000
END:DAYLIGHT
BEGIN:STANDARD
TZOFFSETFROM:-0400
TZOFFSETTO:-0500
TZNAME:EST
DTSTART:20251102T060000
END:STANDARD
BEGIN:DAYLIGHT
TZOFFSETFROM:-0500
TZOFFSETTO:-0400
TZNAME:EDT
DTSTART:20260308T070000
END:DAYLIGHT
BEGIN:STANDARD
TZOFFSETFROM:-0400
TZOFFSETTO:-0500
TZNAME:EST
DTSTART:20261101T060000
END:STANDARD
BEGIN:DAYLIGHT
TZOFFSETFROM:-0500
TZOFFSETTO:-0400
TZNAME:EDT
DTSTART:20270314T070000
END:DAYLIGHT
BEGIN:STANDARD
TZOFFSETFROM:-0400
TZOFFSETTO:-0500
TZNAME:EST
DTSTART:20271107T060000
END:STANDARD
END:VTIMEZONE
BEGIN:VEVENT
DTSTART;TZID=America/New_York:20260506T143000
DTEND;TZID=America/New_York:20260506T163000
DTSTAMP:20260422T052140
CREATED:20260331T184606Z
LAST-MODIFIED:20260331T184606Z
UID:10002168-1778077800-1778085000@massfoundersnetwork.org
SUMMARY:Climatetech Pitch Party
DESCRIPTION:​Greentown Boston supports more than 150 game-changing climatetech and energy startups that are reshaping how we power our world\, grow our food\, build our infrastructure\, and reduce emissions across key greenhouse‑gas‑emitting sectors. ​Join us during Boston Climate Week to hear pitches from members of our startup community and network with other climate champions passionate about innovations in climatetech and the energy transition.
URL:https://massfoundersnetwork.org/event/climatetech-pitch-party/
LOCATION:Greentown Labs\, 444 Somerville Avenue\, Somerville\, MA\, 02143\, United States
CATEGORIES:In-Person,Networking Event,Pitch Event
ATTACH;FMTTYPE=image/png:https://massfoundersnetwork.org/wp-content/uploads/2026/03/Screenshot-2026-03-31-at-2.44.38-PM.png
ORGANIZER;CN="Greentown Labs Boston":MAILTO:kwilson@greentownlabs.com
GEO:42.3817869;-71.1027562
X-APPLE-STRUCTURED-LOCATION;VALUE=URI;X-ADDRESS=Greentown Labs 444 Somerville Avenue Somerville MA 02143 United States;X-APPLE-RADIUS=500;X-TITLE=444 Somerville Avenue:geo:-71.1027562,42.3817869
END:VEVENT
BEGIN:VEVENT
DTSTART;TZID=America/New_York:20260506T173000
DTEND;TZID=America/New_York:20260506T193000
DTSTAMP:20260422T052140
CREATED:20260331T184834Z
LAST-MODIFIED:20260331T184834Z
UID:10002169-1778088600-1778095800@massfoundersnetwork.org
SUMMARY:Greentown Boston EnergyBar: Place to Build—Why Climate Innovators Choose Massachusetts
DESCRIPTION:​Greentown Boston\, along with Canary Media\, are excited to host a special edition of EnergyBar during Boston’s inaugural Climate Week! The event will feature a timely conversation focused on strategies to retain climate and energy innovators in the Commonwealth. \n​EnergyBar is Greentown Boston’s signature networking event that fosters conversation and collaboration among entrepreneurs\, investors\, corporate leaders\, students\, policymakers\, and other climate champions passionate about innovations in climatetech and the energy transition.
URL:https://massfoundersnetwork.org/event/greentown-boston-energybar-place-to-build-why-climate-innovators-choose-massachusetts/
LOCATION:Greentown Labs\, 444 Somerville Avenue\, Somerville\, MA\, 02143\, United States
CATEGORIES:In-Person,Networking Event
ATTACH;FMTTYPE=image/png:https://massfoundersnetwork.org/wp-content/uploads/2026/03/Screenshot-2026-03-31-at-2.47.10-PM.png
ORGANIZER;CN="Greentown Labs Boston":MAILTO:kwilson@greentownlabs.com
GEO:42.3817869;-71.1027562
X-APPLE-STRUCTURED-LOCATION;VALUE=URI;X-ADDRESS=Greentown Labs 444 Somerville Avenue Somerville MA 02143 United States;X-APPLE-RADIUS=500;X-TITLE=444 Somerville Avenue:geo:-71.1027562,42.3817869
END:VEVENT
BEGIN:VEVENT
DTSTART;TZID=America/New_York:20260507T090000
DTEND;TZID=America/New_York:20260507T110000
DTSTAMP:20260422T052140
CREATED:20260331T185149Z
LAST-MODIFIED:20260331T185149Z
UID:10002170-1778144400-1778151600@massfoundersnetwork.org
SUMMARY:Coffee\, Carbs & Scaling Climatetech with Next Rung and FORGE
DESCRIPTION:​​Join Next Rung Technology and FORGE for a special Boston Climate Week edition of Coffee & Carbs at Greentown Labs! ☕️🍩 \n​Join for coffee and donuts\, alongside real-world insights into successfully developing first-of-a-kind sustainable plants and products. You are invited to fuel up for a busy day at Boston Climate Week while learning from data-driven findings about early best practices that correlate to successful project outcomes.
URL:https://massfoundersnetwork.org/event/coffee-carbs-scaling-climatetech-with-next-rung-and-forge/
LOCATION:Greentown Labs\, 444 Somerville Avenue\, Somerville\, MA\, 02143\, United States
CATEGORIES:In-Person,Networking Event,Themed Event
ATTACH;FMTTYPE=image/png:https://massfoundersnetwork.org/wp-content/uploads/2026/03/Screenshot-2026-03-31-at-2.50.16-PM.png
ORGANIZER;CN="Greentown Labs Boston":MAILTO:kwilson@greentownlabs.com
GEO:42.3817869;-71.1027562
X-APPLE-STRUCTURED-LOCATION;VALUE=URI;X-ADDRESS=Greentown Labs 444 Somerville Avenue Somerville MA 02143 United States;X-APPLE-RADIUS=500;X-TITLE=444 Somerville Avenue:geo:-71.1027562,42.3817869
END:VEVENT
BEGIN:VEVENT
DTSTART;TZID=America/New_York:20260507T133000
DTEND;TZID=America/New_York:20260507T160000
DTSTAMP:20260422T052140
CREATED:20260331T185745Z
LAST-MODIFIED:20260331T185745Z
UID:10002171-1778160600-1778169600@massfoundersnetwork.org
SUMMARY:Addressing the Built Environment: How Massachusetts Leads through Accessibility\, Affordability\, and Innovation at Scale
DESCRIPTION:​Across Massachusetts\, communities\, institutions\, and industry leaders are working to translate climate ambition into practical solutions. But key questions remain: How are communities tackling this challenge? What solutions are truly accessible and affordable? And which innovations can scale across buildings\, campuses\, and municipalities? \n  \n​This Boston Climate Week panel brings together leaders from across the building performance\, energy planning\, and infrastructure ecosystem to explore how Massachusetts continues to lead by example. \n  \nSpeaker Line-Up:  \nMark Vasu\nVice President\, QEA Tech \n​Stephen Moore\nHead of Massachusetts Office & Director\, High Performance Building Solutions\nSteven Winter Associates \n​Moneer Azzam\nPrincipal\nBeacon Climate Innovations \n​Tina Bennett\nPresident & CEO\nPowerOptions \n​Ryan David Ewell\nFounder & Director\nBuilding Envelope Co.
URL:https://massfoundersnetwork.org/event/addressing-the-built-environment-how-massachusetts-leads-through-accessibility-affordability-and-innovation-at-scale/
LOCATION:Greentown Labs\, 444 Somerville Avenue\, Somerville\, MA\, 02143\, United States
CATEGORIES:In-Person,Networking Event,Panel Discussion
ATTACH;FMTTYPE=image/png:https://massfoundersnetwork.org/wp-content/uploads/2026/03/Screenshot-2026-03-31-at-2.56.36-PM.png
ORGANIZER;CN="Greentown Labs Boston":MAILTO:kwilson@greentownlabs.com
GEO:42.3817869;-71.1027562
X-APPLE-STRUCTURED-LOCATION;VALUE=URI;X-ADDRESS=Greentown Labs 444 Somerville Avenue Somerville MA 02143 United States;X-APPLE-RADIUS=500;X-TITLE=444 Somerville Avenue:geo:-71.1027562,42.3817869
END:VEVENT
END:VCALENDAR