BEGIN:VCALENDAR
VERSION:2.0
PRODID:-//MFN - ECPv6.15.20//NONSGML v1.0//EN
CALSCALE:GREGORIAN
METHOD:PUBLISH
X-WR-CALNAME:MFN
X-ORIGINAL-URL:https://massfoundersnetwork.org
X-WR-CALDESC:Events for MFN
REFRESH-INTERVAL;VALUE=DURATION:PT1H
X-Robots-Tag:noindex
X-PUBLISHED-TTL:PT1H
BEGIN:VTIMEZONE
TZID:America/New_York
BEGIN:DAYLIGHT
TZOFFSETFROM:-0500
TZOFFSETTO:-0400
TZNAME:EDT
DTSTART:20250309T070000
END:DAYLIGHT
BEGIN:STANDARD
TZOFFSETFROM:-0400
TZOFFSETTO:-0500
TZNAME:EST
DTSTART:20251102T060000
END:STANDARD
BEGIN:DAYLIGHT
TZOFFSETFROM:-0500
TZOFFSETTO:-0400
TZNAME:EDT
DTSTART:20260308T070000
END:DAYLIGHT
BEGIN:STANDARD
TZOFFSETFROM:-0400
TZOFFSETTO:-0500
TZNAME:EST
DTSTART:20261101T060000
END:STANDARD
BEGIN:DAYLIGHT
TZOFFSETFROM:-0500
TZOFFSETTO:-0400
TZNAME:EDT
DTSTART:20270314T070000
END:DAYLIGHT
BEGIN:STANDARD
TZOFFSETFROM:-0400
TZOFFSETTO:-0500
TZNAME:EST
DTSTART:20271107T060000
END:STANDARD
END:VTIMEZONE
BEGIN:VEVENT
DTSTART;TZID=America/New_York:20260520T090000
DTEND;TZID=America/New_York:20260520T100000
DTSTAMP:20260423T043531
CREATED:20260406T195037Z
LAST-MODIFIED:20260406T195037Z
UID:31591-1779267600-1779271200@massfoundersnetwork.org
SUMMARY:Small Business Resource Series: Massachusetts Health Connector for Business-Health Coverage Options for Small Employers
DESCRIPTION:Looking to expand your team? In this webinar\, representatives from the Commonwealth’s health insurance exchange will detail how small businesses can find plans that provide great benefits with lower premiums\, other opportunities to save money through federal tax credits and 15 percent rebates through the ConnectWell program\, along with options that give employees the flexibility to pick the plan that best meets their needs.
URL:https://massfoundersnetwork.org/event/small-business-resource-series-massachusetts-health-connector-for-business-health-coverage-options-for-small-employers/
LOCATION:Enterprise Center at Salem State University\, Petrowski Room\, 121 Loring Avenue\, Salem\, MA\, 01970\, United States
CATEGORIES:Online,Talk/lecture,Themed Event
ORGANIZER;CN="Enterprise Center at Salem State University":MAILTO:Iswanson@enterprisectr.org
GEO:42.4994793;-70.8943128
X-APPLE-STRUCTURED-LOCATION;VALUE=URI;X-ADDRESS=Enterprise Center at Salem State University Petrowski Room 121 Loring Avenue Salem MA 01970 United States;X-APPLE-RADIUS=500;X-TITLE=Petrowski Room\, 121 Loring Avenue:geo:-70.8943128,42.4994793
END:VEVENT
END:VCALENDAR